BEGIN:VCALENDAR
VERSION:2.0
PRODID:-//Gageego! - ECPv6.15.20//NONSGML v1.0//EN
CALSCALE:GREGORIAN
METHOD:PUBLISH
X-WR-CALNAME:Gageego!
X-ORIGINAL-URL:https://gageego.se
X-WR-CALDESC:Händelser för Gageego!
REFRESH-INTERVAL;VALUE=DURATION:PT1H
X-Robots-Tag:noindex
X-PUBLISHED-TTL:PT1H
BEGIN:VTIMEZONE
TZID:Europe/Stockholm
BEGIN:DAYLIGHT
TZOFFSETFROM:+0100
TZOFFSETTO:+0200
TZNAME:CEST
DTSTART:20220327T010000
END:DAYLIGHT
BEGIN:STANDARD
TZOFFSETFROM:+0200
TZOFFSETTO:+0100
TZNAME:CET
DTSTART:20221030T010000
END:STANDARD
BEGIN:DAYLIGHT
TZOFFSETFROM:+0100
TZOFFSETTO:+0200
TZNAME:CEST
DTSTART:20230326T010000
END:DAYLIGHT
BEGIN:STANDARD
TZOFFSETFROM:+0200
TZOFFSETTO:+0100
TZNAME:CET
DTSTART:20231029T010000
END:STANDARD
BEGIN:DAYLIGHT
TZOFFSETFROM:+0100
TZOFFSETTO:+0200
TZNAME:CEST
DTSTART:20240331T010000
END:DAYLIGHT
BEGIN:STANDARD
TZOFFSETFROM:+0200
TZOFFSETTO:+0100
TZNAME:CET
DTSTART:20241027T010000
END:STANDARD
END:VTIMEZONE
BEGIN:VEVENT
DTSTART;TZID=Europe/Stockholm:20230219T000000
DTEND;TZID=Europe/Stockholm:20230219T235959
DTSTAMP:20260425T181235
CREATED:20230101T110000Z
LAST-MODIFIED:20230123T085518Z
UID:10000332-1676764800-1676851199@gageego.se
SUMMARY:Connect – Paradoxes
DESCRIPTION:Connect Festival 2023 presenterar årets tredje och sista konsert\, nu med ensemblen Gageego! på podiet. Konserten kommer att innehålla enbart nya stycken komponerade av tonsättarstudenterna vid Musikhögskolan i Malmö. Fritt inträde. \n\n\n\nProgram\n\n\n\n(i slumpmässig ordning) \n\n\n\nErik Valdemar Sköld  Landvættir SerenadeArvid Olson  FuurinAgnes Salomonsson  MotvalsOskar Björkman  Tribute to CrantonEmanuele Maria Fiammetti  Från Dimman Alan Haksten  Frente al Espejo Alvi Joensen  (Un)musical ParametersMelina Ramberg  Green Paradox \n\n\n\nPlats\n\n\n\n\n\nArrangör
URL:https://gageego.se/evenemang/connect-2023/
LOCATION:Landstingssalen\, Rådhuset\, Kompanigatan 5\, Malmö\, 211 35\, Sverige
CATEGORIES:Konsert
ATTACH;FMTTYPE=image/jpeg:https://gageego.se/wp-content/uploads/2022/12/Gageego-Connect-festival-2023.jpg
END:VEVENT
END:VCALENDAR