BEGIN:VCALENDAR
VERSION:2.0
PRODID:-//Gageego! - ECPv6.15.20//NONSGML v1.0//EN
CALSCALE:GREGORIAN
METHOD:PUBLISH
X-WR-CALNAME:Gageego!
X-ORIGINAL-URL:https://gageego.se
X-WR-CALDESC:Händelser för Gageego!
REFRESH-INTERVAL;VALUE=DURATION:PT1H
X-Robots-Tag:noindex
X-PUBLISHED-TTL:PT1H
BEGIN:VTIMEZONE
TZID:Europe/Stockholm
BEGIN:DAYLIGHT
TZOFFSETFROM:+0100
TZOFFSETTO:+0200
TZNAME:CEST
DTSTART:20210328T010000
END:DAYLIGHT
BEGIN:STANDARD
TZOFFSETFROM:+0200
TZOFFSETTO:+0100
TZNAME:CET
DTSTART:20211031T010000
END:STANDARD
BEGIN:DAYLIGHT
TZOFFSETFROM:+0100
TZOFFSETTO:+0200
TZNAME:CEST
DTSTART:20220327T010000
END:DAYLIGHT
BEGIN:STANDARD
TZOFFSETFROM:+0200
TZOFFSETTO:+0100
TZNAME:CET
DTSTART:20221030T010000
END:STANDARD
BEGIN:DAYLIGHT
TZOFFSETFROM:+0100
TZOFFSETTO:+0200
TZNAME:CEST
DTSTART:20230326T010000
END:DAYLIGHT
BEGIN:STANDARD
TZOFFSETFROM:+0200
TZOFFSETTO:+0100
TZNAME:CET
DTSTART:20231029T010000
END:STANDARD
END:VTIMEZONE
BEGIN:VEVENT
DTSTART;TZID=Europe/Stockholm:20221015T190000
DTEND;TZID=Europe/Stockholm:20221015T203000
DTSTAMP:20260425T143321
CREATED:20220829T100000Z
LAST-MODIFIED:20230327T075125Z
UID:10000335-1665860400-1665865800@gageego.se
SUMMARY:Tidslinjer
DESCRIPTION:Gageego! tar fasta på två pionjärer: György Ligeti – som skulle fyllt 100 nästa år – uppmärksammas med sin vidunderliga Tio stycken för blåskvintett och Karlheinz Stockhausen med den ikoniska Zeitmasse\, verket som förde in serialismen i tidsdimensionen. Men vi blickar även vidare mot framtidens pionjärer i Parissvenskan Madeleine Isakssons sinnrikt skiktade väv av klanger och tidslinjer\, Sondes\, och den i Visby boende amerikanen Joseph Lakes utsträckta\, vidsträckta och meditativa This is one small stone… \n\n\n\nUngerske tonsättaren György Ligeti tillhör efterkrigstidens allra viktigaste konstnärskap. Han är på många vis ett panorama genom vilken 1900-talets sena musikaliska landvinningar kan skönjas\, såväl genom sina estetiska transformationer som sin skiftande hemvist: från arbetsläger under nazismen\, till avantgardets idealistiska centraleuropeiska mecka i Köln\, till Hollywoods stjärnbeströdda skimmer genom inte minst filmregissören Stanley Kubricks återkommande användning av hans musik. \n\n\n\nZeitmasse är ett av den tyske pionjärtonsättaren Karlheinz Stockhausens verkliga genombrottsverk. I likhet med flera av Stockhausens stycken\, finns det ofta hyllmeter av analyser att sätta sig in i. I det övergripande är Zeitmasse ett första genomförande av serialismens systematik i tidsdimensionen. Serialismen hade dessförinnan enbart återfunnits i struktureringen av tonhöjder\, i Zeitmasse går Stockhausen ett steg längre. \n\n\n\nMadeleine Isakssons musik kännetecknas av det svävande och skimrande. De minutiösa klangerna är som skiktade klangliga skulpturer. Det finns en sensibilitet\, och impressionistisk färgskala som framstår som förklarande till varför hon för många år sedan beslöt sig för att bosätta sig i Paris. Isakssons musik ter sig organisk\, som om den under musikens gång växer och tar form – blir form. \n\n\n\nSedan ett antal år är amerikanske tonsättaren Joseph Lake bosatt i Visby\, där han undervisar på Gotlands tonsättarskola. En miljö och plats\, som inte är så främmande när man betänker de klanger som Lake under lång tid utforskat. Hans musikaliska framtoning präglas av en stillhet och en innerlig fascination för den enskilda tonens rikedom. \n\n\n\nDenna kväll upplever vi allt detta under ledning av Rei Munakata.  \n\n\n\n\n\n\n\nKöp biljetter
URL:https://gageego.se/evenemang/tidslinjer/
LOCATION:Stenhammarsalen\, Göteborgs konserthus\, Götaplatsen 8\, Göteborg\, 412 56\, Sverige
CATEGORIES:Konsert
ATTACH;FMTTYPE=image/jpeg:https://gageego.se/wp-content/uploads/2022/06/rei-munakata_dsc04522-1920x1080-1.jpg
ORGANIZER;CN="G%C3%B6teborgs konserthus":MAILTO:biljett@gso.se
GEO:57.697098;11.9801413
X-APPLE-STRUCTURED-LOCATION;VALUE=URI;X-ADDRESS=Stenhammarsalen Göteborgs konserthus Götaplatsen 8 Göteborg 412 56 Sverige;X-APPLE-RADIUS=500;X-TITLE=Götaplatsen 8:geo:11.9801413,57.697098
END:VEVENT
END:VCALENDAR