BEGIN:VCALENDAR
VERSION:2.0
PRODID:-//Gageego! - ECPv6.15.20//NONSGML v1.0//EN
CALSCALE:GREGORIAN
METHOD:PUBLISH
X-ORIGINAL-URL:https://gageego.se
X-WR-CALDESC:Händelser för Gageego!
REFRESH-INTERVAL;VALUE=DURATION:PT1H
X-Robots-Tag:noindex
X-PUBLISHED-TTL:PT1H
BEGIN:VTIMEZONE
TZID:Europe/Stockholm
BEGIN:DAYLIGHT
TZOFFSETFROM:+0100
TZOFFSETTO:+0200
TZNAME:CEST
DTSTART:20210328T010000
END:DAYLIGHT
BEGIN:STANDARD
TZOFFSETFROM:+0200
TZOFFSETTO:+0100
TZNAME:CET
DTSTART:20211031T010000
END:STANDARD
BEGIN:DAYLIGHT
TZOFFSETFROM:+0100
TZOFFSETTO:+0200
TZNAME:CEST
DTSTART:20220327T010000
END:DAYLIGHT
BEGIN:STANDARD
TZOFFSETFROM:+0200
TZOFFSETTO:+0100
TZNAME:CET
DTSTART:20221030T010000
END:STANDARD
BEGIN:DAYLIGHT
TZOFFSETFROM:+0100
TZOFFSETTO:+0200
TZNAME:CEST
DTSTART:20230326T010000
END:DAYLIGHT
BEGIN:STANDARD
TZOFFSETFROM:+0200
TZOFFSETTO:+0100
TZNAME:CET
DTSTART:20231029T010000
END:STANDARD
END:VTIMEZONE
BEGIN:VEVENT
DTSTART;TZID=Europe/Stockholm:20221021T220000
DTEND;TZID=Europe/Stockholm:20221021T230000
DTSTAMP:20260425T210759
CREATED:20221017T100000Z
LAST-MODIFIED:20221018T083724Z
UID:10000343-1666389600-1666393200@gageego.se
SUMMARY:Late Night: Gageego!
DESCRIPTION:Kliv i en nattlig klangvärld när kammarensemblen Gageego! utforskar orgelns och ensemblens möjligheter i Göteborgs konserthus enorma akustik. \n\n\n\n\n\n\n\n\nInspirerad av den nya konserthusorgeln har svenska tonsättaren Madeleine Isaksson skrivit ett helt nytt verk för Gageego! och orgel. I kvällens konsert får vi vara med om uruppförandet. \n\n\n\nVi hör också Isakssons verk Fibres för flöjt\, violin och gitarr och Anna Korsuns Spleen för basflöjt\, klarinett\, barytonsaxofon\, violin och två celli. Och i Tysklandsbaserade Marina Khrokovas Installationen utforskas orgelns hela klangliga spektrum. Hans Hellsten\, professor i orgel vid Malmö Musikhögskola och specialist på nutida orgelmusik är solist. Dirigerar gör Rei Munakata. \n\n\n\nKonserten genomförs med stöd av Kulturrådet. \n\n\n\nGöteborgs internationella orgelfestival\n\n\n\nLate Night med Gageego! är en del av Göteborgs internationella orgelfestival 2022\, som pågår 12-23 oktober och välkomnar alla åldrar till en värld av passion och ljudupplevelser. Festivalen är norra Europas största orgelfestival och har funnits sedan 1994. En rad stora musiker medverkar vid workshops och konserter\, som äger rum i såväl Göteborgs Konserthus som i Göteborgs största kyrkor. \n\n\n\nKonserthusorgeln\n\n\n\nGöteborgs konserthus nya orgel med sina 9 000 pipor finns bakom scenen. Vibrationerna från baspiporna sträcker sig under golvet ända fram till mittersta parkett. \n\n\n\nProgram\n\n\n\nMadeleine Isaksson  Fibres\, 2004Marina Khorkova  Installationen\, 2011Anna Korsun  Spleen for singing ensemble\, 2019Madeleine Isaksson  Infiltrations\, 2022 \n\n\n\nKöp biljetter
URL:https://gageego.se/evenemang/goteborgs-internationella-orgelfestival-2022/
LOCATION:Stora salen\, Göteborgs konserthus\, Götaplatsen 8\, Göteborg\, 412 56\, Sverige
CATEGORIES:Konsert
ATTACH;FMTTYPE=image/jpeg:https://gageego.se/wp-content/uploads/2022/09/Late-Night-with-Gageego-GIOA.jpg
ORGANIZER;CN="G%C3%B6teborgs konserthus":MAILTO:biljett@gso.se
GEO:57.697098;11.9801413
X-APPLE-STRUCTURED-LOCATION;VALUE=URI;X-ADDRESS=Stora salen Göteborgs konserthus Götaplatsen 8 Göteborg 412 56 Sverige;X-APPLE-RADIUS=500;X-TITLE=Götaplatsen 8:geo:11.9801413,57.697098
END:VEVENT
END:VCALENDAR